BEGIN:VCALENDAR
VERSION:2.0
PRODID:-//MakerMasti - ECPv6.11.2.1//NONSGML v1.0//EN
CALSCALE:GREGORIAN
METHOD:PUBLISH
X-WR-CALNAME:MakerMasti
X-ORIGINAL-URL:https://makermasti.com
X-WR-CALDESC:Events for MakerMasti
REFRESH-INTERVAL;VALUE=DURATION:PT1H
X-Robots-Tag:noindex
X-PUBLISHED-TTL:PT1H
BEGIN:VTIMEZONE
TZID:Asia/Kolkata
BEGIN:STANDARD
TZOFFSETFROM:+0530
TZOFFSETTO:+0530
TZNAME:IST
DTSTART:20260101T000000
END:STANDARD
END:VTIMEZONE
BEGIN:VEVENT
DTSTART;TZID=Asia/Kolkata:20260424T110000
DTEND;TZID=Asia/Kolkata:20260424T180000
DTSTAMP:20260424T014524
CREATED:20260320T103717Z
LAST-MODIFIED:20260327T062157Z
UID:10001015-1777028400-1777053600@makermasti.com
SUMMARY:Lake Shore Science Fest | April 24th
DESCRIPTION:
URL:https://makermasti.com/event/lake-shore-science-fest-april-24th/
LOCATION:Lake Shore Mall – Y Junction\, Lake Shore Mall - Y Junction \,IDA Kukatpally\, Kukatpally\, Hyderabad\, Telangana\, 500072\, India
END:VEVENT
BEGIN:VEVENT
DTSTART;TZID=Asia/Kolkata:20260424T110000
DTEND;TZID=Asia/Kolkata:20260424T180000
DTSTAMP:20260424T014524
CREATED:20260327T062315Z
LAST-MODIFIED:20260327T072851Z
UID:10001040-1777028400-1777053600@makermasti.com
SUMMARY:Lake Shore Science Fest School| April 24th
DESCRIPTION:
URL:https://makermasti.com/event/lake-shore-science-fest-school-april-24th/
LOCATION:Lake Shore Mall – Y Junction\, Lake Shore Mall - Y Junction \,IDA Kukatpally\, Kukatpally\, Hyderabad\, Telangana\, 500072\, India
END:VEVENT
END:VCALENDAR