BEGIN:VCALENDAR
VERSION:2.0
PRODID:-//MakerMasti - ECPv6.11.2.1//NONSGML v1.0//EN
CALSCALE:GREGORIAN
METHOD:PUBLISH
X-WR-CALNAME:MakerMasti
X-ORIGINAL-URL:https://makermasti.com
X-WR-CALDESC:Events for MakerMasti
REFRESH-INTERVAL;VALUE=DURATION:PT1H
X-Robots-Tag:noindex
X-PUBLISHED-TTL:PT1H
BEGIN:VTIMEZONE
TZID:Asia/Kolkata
BEGIN:STANDARD
TZOFFSETFROM:+0530
TZOFFSETTO:+0530
TZNAME:IST
DTSTART:20250101T000000
END:STANDARD
END:VTIMEZONE
BEGIN:VEVENT
DTSTART;TZID=Asia/Kolkata:20250406T110000
DTEND;TZID=Asia/Kolkata:20250406T130000
DTSTAMP:20260421T155718
CREATED:20250324T083104Z
LAST-MODIFIED:20250324T092740Z
UID:10000464-1743937200-1743944400@makermasti.com
SUMMARY:DIY Maker Workshop - 6th April - Kandivali
DESCRIPTION:
URL:https://makermasti.com/event/diy-maker-workshop-6th-april-nagole/
LOCATION:Hive 67\, Boraspada Rd\, near Raghuleela Mall\, Kandivali\, Jai Bhim Sanjay Nagar\, Kandivali West\, Mumbai\, Maharashtra 400067\, Reliance digital\, Hive 67\, Boraspada Rd\, near Raghuleela Mall\, Kandivali\, Jai Bhim Sanjay Nagar\, Kandivali West\, Mumbai\, Maharashtra\, 400067\, India
CATEGORIES:Workshop
END:VEVENT
END:VCALENDAR