BEGIN:VCALENDAR
VERSION:2.0
PRODID:-//MakerMasti - ECPv6.11.2.1//NONSGML v1.0//EN
CALSCALE:GREGORIAN
METHOD:PUBLISH
X-ORIGINAL-URL:https://makermasti.com
X-WR-CALDESC:Events for MakerMasti
REFRESH-INTERVAL;VALUE=DURATION:PT1H
X-Robots-Tag:noindex
X-PUBLISHED-TTL:PT1H
BEGIN:VTIMEZONE
TZID:Asia/Kolkata
BEGIN:STANDARD
TZOFFSETFROM:+0530
TZOFFSETTO:+0530
TZNAME:IST
DTSTART:20250101T000000
END:STANDARD
END:VTIMEZONE
BEGIN:VEVENT
DTSTART;TZID=Asia/Kolkata:20250523T120000
DTEND;TZID=Asia/Kolkata:20250601T200000
DTSTAMP:20260421T155841
CREATED:20250508T120141Z
LAST-MODIFIED:20250512T090911Z
UID:10000475-1748001600-1748808000@makermasti.com
SUMMARY:Makermasti - The Fun Fest - Inorbit mall\, Malad
DESCRIPTION: 
URL:https://makermasti.com/event/makermasti-the-fun-fest-inorbit-mall-malad/
LOCATION:Inorbit Mall Malad\, Inorbit Mall Malad\, New Link Rd\,\, Malad\, Malad West\, Mumbai\, Maharashtra\, 400064\, India
CATEGORIES:Workshop
END:VEVENT
BEGIN:VEVENT
DTSTART;TZID=Asia/Kolkata:20250524T160000
DTEND;TZID=Asia/Kolkata:20250524T180000
DTSTAMP:20260421T155841
CREATED:20250517T094949Z
LAST-MODIFIED:20250517T095506Z
UID:10000478-1748102400-1748109600@makermasti.com
SUMMARY:Junior Masterchef 24th May
DESCRIPTION: 
URL:https://makermasti.com/event/junior-masterchef-24-may/
LOCATION:24\, Halwasiya Court\, Mahatma Gandhi Marg\, Opp. LIC Office\, Hazratganj\, Lucknow – 226001\, 24\, Halwasiya Court\, Mahatma Gandhi Marg\, Opp. LIC Office\, Hazratganj\, Lucknow\, 226001\, India
CATEGORIES:Workshop
END:VEVENT
END:VCALENDAR