BEGIN:VCALENDAR
VERSION:2.0
PRODID:-//MakerMasti - ECPv6.11.2.1//NONSGML v1.0//EN
CALSCALE:GREGORIAN
METHOD:PUBLISH
X-ORIGINAL-URL:https://makermasti.com
X-WR-CALDESC:Events for MakerMasti
REFRESH-INTERVAL;VALUE=DURATION:PT1H
X-Robots-Tag:noindex
X-PUBLISHED-TTL:PT1H
BEGIN:VTIMEZONE
TZID:Asia/Kolkata
BEGIN:STANDARD
TZOFFSETFROM:+0530
TZOFFSETTO:+0530
TZNAME:IST
DTSTART:20240101T000000
END:STANDARD
END:VTIMEZONE
BEGIN:VEVENT
DTSTART;TZID=Asia/Kolkata:20240616T110000
DTEND;TZID=Asia/Kolkata:20240616T200000
DTSTAMP:20260423T155833
CREATED:20240520T065144Z
LAST-MODIFIED:20240529T095855Z
UID:10000389-1718535600-1718568000@makermasti.com
SUMMARY:THE GREAT INDIAN SCIENCE FEST - (16th June) Kattigenahalli\, Bengaluru
DESCRIPTION:In this workshop\, we’ll explore the exciting world of Artificial Intelligence (AI) through fun and engaging activities! Kids will use cool AI tools to create their own art\, play games that teach them about AI concepts\, and discover how AI is used in the real world! \n\n\n\n\n\n\n\n\n\n\n\n\nImagine having a super-smart helper that can learn and improve over time. That’s what AI tools are like! They use computer smarts to tackle tasks in new ways.
URL:https://makermasti.com/event/the-great-indian-science-fest-15th-and-16th-june-kattigenahalli-bengaluru/
LOCATION:Amrutaya School\, Kattigenahalli\, Bangalore\, Attukal Layout\, 8\, near Katiganhalli\, Yelahanka\,\, Bengaluru\, Karnataka\, 560063\, India
END:VEVENT
END:VCALENDAR