BEGIN:VCALENDAR
VERSION:2.0
PRODID:-//MakerMasti - ECPv6.11.2.1//NONSGML v1.0//EN
CALSCALE:GREGORIAN
METHOD:PUBLISH
X-WR-CALNAME:MakerMasti
X-ORIGINAL-URL:https://makermasti.com
X-WR-CALDESC:Events for MakerMasti
REFRESH-INTERVAL;VALUE=DURATION:PT1H
X-Robots-Tag:noindex
X-PUBLISHED-TTL:PT1H
BEGIN:VTIMEZONE
TZID:Asia/Kolkata
BEGIN:STANDARD
TZOFFSETFROM:+0530
TZOFFSETTO:+0530
TZNAME:IST
DTSTART:20240101T000000
END:STANDARD
END:VTIMEZONE
BEGIN:VEVENT
DTSTART;TZID=Asia/Kolkata:20240706T160000
DTEND;TZID=Asia/Kolkata:20240706T180000
DTSTAMP:20260423T155414
CREATED:20240622T073441Z
LAST-MODIFIED:20240622T084446Z
UID:10000414-1720281600-1720288800@makermasti.com
SUMMARY:AI Workshop - 6th July Nehru Nagar\, Ghaziabad
DESCRIPTION:In this workshop\, we’ll explore the exciting world of Artificial Intelligence (AI) through fun and engaging activities! Kids will use cool AI tools to create their own art\, play games that teach them about AI concepts\, and discover how AI is used in the real world! \n\n\n\n\n\n\n\n\n\n\n\n\nImagine having a super-smart helper that can learn and improve over time. That’s what AI tools are like! They use computer smarts to tackle tasks in new ways.
URL:https://makermasti.com/event/ai-workshop-6th-july-nehru-nagar-ghaziabad/
LOCATION:Nehru Nagar\, Ghaziabad\, Plot No IE226\, Gr\, 1st & 2nd Floor\, Ambedkar Rd\, Pocket E\, Nehru Nagar II\, Nehru Nagar\,\, Ghaziabad\,\, Uttar Pradesh\, 201001\, India
END:VEVENT
END:VCALENDAR