BEGIN:VCALENDAR
VERSION:2.0
PRODID:-//MakerMasti - ECPv6.11.2.1//NONSGML v1.0//EN
CALSCALE:GREGORIAN
METHOD:PUBLISH
X-WR-CALNAME:MakerMasti
X-ORIGINAL-URL:https://makermasti.com
X-WR-CALDESC:Events for MakerMasti
REFRESH-INTERVAL;VALUE=DURATION:PT1H
X-Robots-Tag:noindex
X-PUBLISHED-TTL:PT1H
BEGIN:VTIMEZONE
TZID:Asia/Kolkata
BEGIN:STANDARD
TZOFFSETFROM:+0530
TZOFFSETTO:+0530
TZNAME:IST
DTSTART:20240101T000000
END:STANDARD
END:VTIMEZONE
BEGIN:VEVENT
DTSTART;TZID=Asia/Kolkata:20240630T113000
DTEND;TZID=Asia/Kolkata:20240630T123000
DTSTAMP:20260423T155919
CREATED:20240624T070722Z
LAST-MODIFIED:20240625T054222Z
UID:10000416-1719747000-1719750600@makermasti.com
SUMMARY:THE GREAT INDIAN SCIENCE FEST - (30th June)  Kiddos - Prestige Ferns Residency\, Bengaluru
DESCRIPTION:In this workshop\, we’ll explore the exciting world of Artificial Intelligence (AI) through fun and engaging activities! Kids will use cool AI tools to create their own art\, play games that teach them about AI concepts\, and discover how AI is used in the real world! \n\n\n\n\n\n\n\n\n\n\n\n\nImagine having a super-smart helper that can learn and improve over time. That’s what AI tools are like! They use computer smarts to tackle tasks in new ways.
URL:https://makermasti.com/event/the-great-indian-science-fest-30th-june-kiddos-prestige-ferns-residency-bengaluru/
LOCATION:Prestige Ferns\, Haralur Road\, Bengaluru\, Prestige Ferns Residency\, Haralur Main Rd\, Eastwood Twp\,\, Bengaluru\, Karnataka\, 560102\, India
END:VEVENT
BEGIN:VEVENT
DTSTART;TZID=Asia/Kolkata:20240630T100000
DTEND;TZID=Asia/Kolkata:20240630T113000
DTSTAMP:20260423T155919
CREATED:20240624T071415Z
LAST-MODIFIED:20240625T054247Z
UID:10000417-1719741600-1719747000@makermasti.com
SUMMARY:THE GREAT INDIAN SCIENCE FEST - (30th June)  Junior - Prestige Ferns Residency\, Bengaluru
DESCRIPTION:In this workshop\, we’ll explore the exciting world of Artificial Intelligence (AI) through fun and engaging activities! Kids will use cool AI tools to create their own art\, play games that teach them about AI concepts\, and discover how AI is used in the real world! \n\n\n\n\n\n\n\n\n\n\n\n\nImagine having a super-smart helper that can learn and improve over time. That’s what AI tools are like! They use computer smarts to tackle tasks in new ways.
URL:https://makermasti.com/event/the-great-indian-science-fest-30th-june-junior-prestige-ferns-residency-bengaluru/
LOCATION:Prestige Ferns\, Haralur Road\, Bengaluru\, Prestige Ferns Residency\, Haralur Main Rd\, Eastwood Twp\,\, Bengaluru\, Karnataka\, 560102\, India
END:VEVENT
BEGIN:VEVENT
DTSTART;TZID=Asia/Kolkata:20240630T090000
DTEND;TZID=Asia/Kolkata:20240630T100000
DTSTAMP:20260423T155919
CREATED:20240624T073636Z
LAST-MODIFIED:20240625T054314Z
UID:10000418-1719738000-1719741600@makermasti.com
SUMMARY:THE GREAT INDIAN SCIENCE FEST - (30th June) Senior - Prestige Ferns Residency\, Bengaluru
DESCRIPTION:In this workshop\, we’ll explore the exciting world of Artificial Intelligence (AI) through fun and engaging activities! Kids will use cool AI tools to create their own art\, play games that teach them about AI concepts\, and discover how AI is used in the real world! \n\n\n\n\n\n\n\n\n\n\n\n\nImagine having a super-smart helper that can learn and improve over time. That’s what AI tools are like! They use computer smarts to tackle tasks in new ways.
URL:https://makermasti.com/event/the-great-indian-science-fest-30th-june-senior-prestige-ferns-residency-bengaluru/
LOCATION:Prestige Ferns\, Haralur Road\, Bengaluru\, Prestige Ferns Residency\, Haralur Main Rd\, Eastwood Twp\,\, Bengaluru\, Karnataka\, 560102\, India
END:VEVENT
END:VCALENDAR